BEGIN:VCALENDAR
VERSION:2.0
PRODID:-//hacksw/handcal//NONSGML v1.0//EN
BEGIN:VEVENT
UID:90c0a33942b752b74d18a7b289b393fa
DTSTAMP:20260420T062128Z

DTSTART:20170524T230000
DTEND:20170524T230000
SUMMARY:FIGHT PITS ALL V ALL
DESCRIPTION:FIGHT PITS FREE FOR ALL.

Bring any gear you like, all levels welcome.
Any tactics may be used. (grouping, hiding, anything you wish.)

We will do 3 games, and then the winners of the 3 games will compete in a final.

Winner of the final will win a small pot, but nothing too special.

All are encouraged to come, as it's great experience if unfamiliar with PvP, and it's great fun! See if you are the Champion!

See you all there. - ASAP
LOCATION:
END:VEVENT

END:VCALENDAR
