BEGIN:VCALENDAR
VERSION:2.0
PRODID:-//hacksw/handcal//NONSGML v1.0//EN
BEGIN:VEVENT
UID:6663afb8e10a7e107c534fa90833c9ca
DTSTAMP:20260419T201047Z

DTSTART:20170526T000000
DTEND:20170527T190000
SUMMARY:BARROWS EVENT
DESCRIPTION:UNIQUES ARE KEPT
RUNES ARE BEING DONATED TO BE FUNDS FOR THE SKILLING COMP/ EVENTS
LOCATION:
END:VEVENT

END:VCALENDAR
