BEGIN:VCALENDAR
VERSION:2.0
PRODID:-//hacksw/handcal//NONSGML v1.0//EN
BEGIN:VEVENT
UID:386b1b945f14276242cce413af905c52
DTSTAMP:20260419T200543Z

DTSTART:20171112T230000
DTEND:20171112T230000
SUMMARY:Giant Mole
DESCRIPTION:This will be a giant mole run for the PVM people!

Read the forum post on required stats. Meeting at Falador Bank next to the park!

Bring a light source and a shovel!
Prayer pots, super combats and food also recommended.
LOCATION:
END:VEVENT

END:VCALENDAR
