BEGIN:VCALENDAR
VERSION:2.0
PRODID:-//hacksw/handcal//NONSGML v1.0//EN
BEGIN:VEVENT
UID:028ef6168d86873e4ca9ef44ae46a36a
DTSTAMP:20260419T202102Z

DTSTART:20171113T200000
DTEND:20171113T213000
SUMMARY:Giant Mole Group
DESCRIPTION:Giant Mole run!

All welcome!
Bring light source and shovel!

Pray pots, super combat pots, food recommended.
LOCATION:
END:VEVENT

END:VCALENDAR
