BEGIN:VCALENDAR
VERSION:2.0
PRODID:-//hacksw/handcal//NONSGML v1.0//EN
BEGIN:VEVENT
UID:d7ab83f1f4a33494a33bd3567d615fd1
DTSTAMP:20260419T200704Z

DTSTART:20171227T180000
DTEND:20171227T210000
SUMMARY:Giant Mole Melt
DESCRIPTION:Hello everyone, the giant mole is a decently difficult boss to defeat solo, he burrows alot and travels all over his lair. With a sizable group im hoping we will be able to melt him down and make a decent profit. Recommended gear is a dharoks set with your rock cake, stamina pots and prayer pots https://gyazo.com/ae805d37d2f7686bba0994de29394d70 . If you are unable to use dharoks or have low combat stats but high mage or range, you may also bring your best gear, some pray pots and stamina's as well. Completion of the hard falador diaries is recommended as well because it gives a mole locator to see where he burrows. I have it completed so it will be very easy to just follow me to his location. This is the first attempt at a mass PvM event and i hope to see as many people as possible!
LOCATION:
END:VEVENT

END:VCALENDAR
