BEGIN:VCALENDAR
VERSION:2.0
PRODID:-//hacksw/handcal//NONSGML v1.0//EN
BEGIN:VEVENT
UID:1f485c5761838ec640109e966729b625
DTSTAMP:20260419T201006Z

DTSTART:20180107T150000
DTEND:20180107T160000
SUMMARY:KBD mass
DESCRIPTION:KBD mass this sunday starting at 3:00PM GMT clan time to 4:00pm. everyone is welcome. hope we can get a visage drop. everyone bring a looting bag so that way the loot share can be more. we can get a lot of kills in that hour. meet in home world 27 10 min before the event.
LOCATION:
END:VEVENT

END:VCALENDAR
