BEGIN:VCALENDAR
VERSION:2.0
PRODID:-//hacksw/handcal//NONSGML v1.0//EN
BEGIN:VEVENT
UID:cfd7d6a882be54c6331141b8ca026bc7
DTSTAMP:20260419T201222Z

DTSTART:20180114T233000
DTEND:20180115T010000
SUMMARY:Corp Mass. The hunt for the clan sigil
DESCRIPTION:Corporeal Beast mass after clan meeting. You must have rank to attend this event.
All loot is split and divided equally among all attending members. If you need to leave the mass early, you forfeit your share of the split. Loot will be passed to a ranked officer for splitting.
LOCATION:
END:VEVENT

END:VCALENDAR
