BEGIN:VCALENDAR
VERSION:2.0
PRODID:-//hacksw/handcal//NONSGML v1.0//EN
BEGIN:VEVENT
UID:3929bf9b0f854c6e8d63e1c757038b59
DTSTAMP:20260419T151818Z

DTSTART:20180114T220000
DTEND:20180114T220000
SUMMARY:1/14/18 Runenation Meeting
DESCRIPTION:TOPICS:
- PvM Event will be announced and will follow afterwards

- Reminder that RuneNation is looking for writer's of guides, item profiles and boss killing tactics.

WHERE:
Blue Moon Inn Cellar (Varrock) on W327 (Home World).

WHEN:
10 PM GMT / 5 PM EST 
LOCATION:
END:VEVENT

END:VCALENDAR
