BEGIN:VCALENDAR
VERSION:2.0
PRODID:-//hacksw/handcal//NONSGML v1.0//EN
BEGIN:VEVENT
UID:fd7769b703afe0d6aad7009017188827
DTSTAMP:20260419T150615Z

DTSTART:20180118T220000
DTEND:20180118T220000
SUMMARY:Pvm Lesson both tanking/dps
DESCRIPTION:Like title says this event for people are brand new to bossing and want to learn how to boss with tanking or dps. If you are interested please let us know what boss you want to learn and we will do our best to show you.

Time:10pm gmt 5pm est 

Hope to see you there!
LOCATION:
END:VEVENT

END:VCALENDAR
