BEGIN:VCALENDAR
VERSION:2.0
PRODID:-//hacksw/handcal//NONSGML v1.0//EN
BEGIN:VEVENT
UID:8ff84e7a0a57aa231cca5de7b0de9fe7
DTSTAMP:20260420T032506Z

DTSTART:20180119T203000
DTEND:20180119T213000
SUMMARY:Bandos trip
DESCRIPTION:Hosting a Bandos trip everyone is invited  For those that haven’t been make sure you ask you learn it from Gen during the boss teaching event. Start is 8:30 est I’ll be on right after work. Everyone is to meet in GE world 27 and we leave from there. The more people the faster the kills so maybe we can get a couple good drop. Hope to see everyone there. Any question plz message me on discord 
LOCATION:
END:VEVENT

END:VCALENDAR
