BEGIN:VCALENDAR
VERSION:2.0
PRODID:-//hacksw/handcal//NONSGML v1.0//EN
BEGIN:VEVENT
UID:770cf07a94b20925d4178411652aac1f
DTSTAMP:20260419T220040Z

DTSTART:20180119T100000
DTEND:20180119T100000
SUMMARY:Corp. Mass the hunt for the sigil pt2
DESCRIPTION:Corporeal beast mass after clan meeting.

Must be a pvm division member to attend.
All loot split equally. If you leave earlier you forfeit your loot. If you show up late you forfeit your loot. Whoever gets the sigil drop will be made famous by Procreator. You're welcome.

This mass will last approximately 90 minutes.


LOCATION:
END:VEVENT

END:VCALENDAR
