BEGIN:VCALENDAR
VERSION:2.0
PRODID:-//hacksw/handcal//NONSGML v1.0//EN
BEGIN:VEVENT
UID:4766cdb7a33894ce92aad65058f63f98
DTSTAMP:20260419T200204Z

DTSTART:20180121T223000
DTEND:20180121T223000
SUMMARY:Corp mass pt2 sigil hunt continues
DESCRIPTION:Corporeal beat mass.
Must be a pvm division member to attend.
All loot is split equally. All loot.
Must be in attendance for entire mass or you forfeit your share. Leaving early/being late.
Anyone who gets a sigil drop will be made famous by procreator. Youre welcome.
LOCATION:
END:VEVENT

END:VCALENDAR
