BEGIN:VCALENDAR
VERSION:2.0
PRODID:-//hacksw/handcal//NONSGML v1.0//EN
BEGIN:VEVENT
UID:b2dfc39c08d85a5c93d5cd6b2ead577f
DTSTAMP:20260419T220300Z

DTSTART:20180311T233000
DTEND:20180311T233000
SUMMARY:RuneNation Meeting [Discord]
DESCRIPTION:The weekly RN Meeting will convene as follows:-

DATE AND TIME: 
11:30 PM GMT (UK) Sunday 11th of March (Refer to the CLOCK to the RIGHT)

WHERE: Meeting channel [Discord]

TOPICS: Promotions, demotions and a PvM Mass.
LOCATION:
END:VEVENT

END:VCALENDAR
