BEGIN:VCALENDAR
VERSION:2.0
PRODID:-//hacksw/handcal//NONSGML v1.0//EN
BEGIN:VEVENT
UID:48bab0784edc481e479943b3e20b8f9c
DTSTAMP:20260420T013038Z

DTSTART:20180318T233000
DTEND:20180318T233000
SUMMARY:RuneNation Meeting [Discord]
DESCRIPTION:The weekly Mandatory RN Meeting will convene as follows:-

DATE AND TIME: 
11:30 PM GMT (UK) Sunday 18th of March (Refer to the CLOCK to the RIGHT)

WHERE: Meeting channel [Discord]

TOPICS: Promotions, demotions and a large mass to be decided by stars.
LOCATION:
END:VEVENT

END:VCALENDAR
