BEGIN:VCALENDAR
VERSION:2.0
PRODID:-//hacksw/handcal//NONSGML v1.0//EN
BEGIN:VEVENT
UID:6a16623f229d039d2c8879401024f375
DTSTAMP:20260419T213526Z

DTSTART:20180825T020000
DTEND:20180825T020000
SUMMARY:OSRS Learner Raids CANCELLED
DESCRIPTION:-- CANCELLED --

An OSRS Learner Raid is scheduled for Friday 25th of August at 2:00 AM BST / 9:00 PM EST.

Teacher: Gen Lee ii
World: Home World
Meeting Point: TBD
Team Size: Max of 6
LOCATION:
END:VEVENT

END:VCALENDAR
