BEGIN:VCALENDAR
VERSION:2.0
PRODID:-//hacksw/handcal//NONSGML v1.0//EN
BEGIN:VEVENT
UID:571497e17d96c7f7ab7907df4553662c
DTSTAMP:20260419T220219Z

DTSTART:20200420T180000
DTEND:20200425T190000
SUMMARY:RN Bingo
DESCRIPTION:If you want to take part in the RN PvM Bingo Trial Event, click the attend button.

You will need to be registered and logged in to see the Attend button.
LOCATION:
END:VEVENT

END:VCALENDAR
