BEGIN:VCALENDAR
VERSION:2.0
PRODID:-//hacksw/handcal//NONSGML v1.0//EN
BEGIN:VEVENT
UID:9a536477d98c0072d27492df51427b2e
DTSTAMP:20260420T114800Z

DTSTART:20230723T223000
DTEND:20230723T223000
SUMMARY:OSRS Hide N Seek (Weekly) - 23.07.2023
DESCRIPTION:The weekly OSRS Hide N Seek begins at 10:30 PM UK time, every Sunday on W309. The meeting point is the south-east corner of the Grand Exchange near the Clan Portal.

The event involves MarksKoi finding 5 hiding spots and giving clues out in the RuneNation CC that help attendees to work out each of the hiding spots. 2,000,000 coins are given to the first person to find and trade me.
LOCATION:
END:VEVENT

END:VCALENDAR
